BEGIN:VCALENDAR
VERSION:2.0
PRODID:-//VocalEssence - ECPv6.15.15//NONSGML v1.0//EN
CALSCALE:GREGORIAN
METHOD:PUBLISH
X-ORIGINAL-URL:https://www.vocalessence.org
X-WR-CALDESC:Events for VocalEssence
REFRESH-INTERVAL;VALUE=DURATION:PT1H
X-Robots-Tag:noindex
X-PUBLISHED-TTL:PT1H
BEGIN:VTIMEZONE
TZID:America/Chicago
BEGIN:DAYLIGHT
TZOFFSETFROM:-0600
TZOFFSETTO:-0500
TZNAME:CDT
DTSTART:20250309T080000
END:DAYLIGHT
BEGIN:STANDARD
TZOFFSETFROM:-0500
TZOFFSETTO:-0600
TZNAME:CST
DTSTART:20251102T070000
END:STANDARD
BEGIN:DAYLIGHT
TZOFFSETFROM:-0600
TZOFFSETTO:-0500
TZNAME:CDT
DTSTART:20260308T080000
END:DAYLIGHT
BEGIN:STANDARD
TZOFFSETFROM:-0500
TZOFFSETTO:-0600
TZNAME:CST
DTSTART:20261101T070000
END:STANDARD
BEGIN:DAYLIGHT
TZOFFSETFROM:-0600
TZOFFSETTO:-0500
TZNAME:CDT
DTSTART:20270314T080000
END:DAYLIGHT
BEGIN:STANDARD
TZOFFSETFROM:-0500
TZOFFSETTO:-0600
TZNAME:CST
DTSTART:20271107T070000
END:STANDARD
END:VTIMEZONE
BEGIN:VEVENT
DTSTART;TZID=America/Chicago:20260116T183000
DTEND;TZID=America/Chicago:20260116T210000
DTSTAMP:20260422T044421
CREATED:20251114T192305Z
LAST-MODIFIED:20260116T173954Z
UID:44865-1768588200-1768597200@www.vocalessence.org
SUMMARY:Event: Sing with John Rutter
DESCRIPTION:
URL:https://www.vocalessence.org/event/event-sing-with-john-rutter/
LOCATION:Plymouth Congregational Church\, 1919 LaSalle Avenue\, Minneapolis\, MN\, 55403\, United States
CATEGORIES:Community Sing,Events,Ticketed Event
ATTACH;FMTTYPE=image/jpeg:https://www.vocalessence.org/wp-content/uploads/2025/10/Community-Sing-2526-C-Featured-1200x630-1-scaled.jpg
END:VEVENT
END:VCALENDAR