BEGIN:VCALENDAR
VERSION:2.0
PRODID:-//VocalEssence - ECPv6.15.15//NONSGML v1.0//EN
CALSCALE:GREGORIAN
METHOD:PUBLISH
X-WR-CALNAME:VocalEssence
X-ORIGINAL-URL:https://www.vocalessence.org
X-WR-CALDESC:Events for VocalEssence
REFRESH-INTERVAL;VALUE=DURATION:PT1H
X-Robots-Tag:noindex
X-PUBLISHED-TTL:PT1H
BEGIN:VTIMEZONE
TZID:America/Chicago
BEGIN:DAYLIGHT
TZOFFSETFROM:-0600
TZOFFSETTO:-0500
TZNAME:CDT
DTSTART:20220313T080000
END:DAYLIGHT
BEGIN:STANDARD
TZOFFSETFROM:-0500
TZOFFSETTO:-0600
TZNAME:CST
DTSTART:20221106T070000
END:STANDARD
BEGIN:DAYLIGHT
TZOFFSETFROM:-0600
TZOFFSETTO:-0500
TZNAME:CDT
DTSTART:20230312T080000
END:DAYLIGHT
BEGIN:STANDARD
TZOFFSETFROM:-0500
TZOFFSETTO:-0600
TZNAME:CST
DTSTART:20231105T070000
END:STANDARD
BEGIN:DAYLIGHT
TZOFFSETFROM:-0600
TZOFFSETTO:-0500
TZNAME:CDT
DTSTART:20240310T080000
END:DAYLIGHT
BEGIN:STANDARD
TZOFFSETFROM:-0500
TZOFFSETTO:-0600
TZNAME:CST
DTSTART:20241103T070000
END:STANDARD
BEGIN:DAYLIGHT
TZOFFSETFROM:-0600
TZOFFSETTO:-0500
TZNAME:CDT
DTSTART:20250309T080000
END:DAYLIGHT
BEGIN:STANDARD
TZOFFSETFROM:-0500
TZOFFSETTO:-0600
TZNAME:CST
DTSTART:20251102T070000
END:STANDARD
END:VTIMEZONE
BEGIN:VEVENT
DTSTART;TZID=America/Chicago:20230512T080000
DTEND;TZID=America/Chicago:20240204T170000
DTSTAMP:20260425T072050
CREATED:20230512T055017Z
LAST-MODIFIED:20230515T190028Z
UID:38963-1683878400-1707066000@www.vocalessence.org
SUMMARY:Subscribe: VocalEssence 2023-2024 Season
DESCRIPTION:
URL:https://www.vocalessence.org/event/subscribe-vocalessence-2023-2024-season/
CATEGORIES:Concerts,Ticketed Event
ATTACH;FMTTYPE=image/jpeg:https://www.vocalessence.org/wp-content/uploads/2023/05/2023-24_1200x360_1.jpg
END:VEVENT
BEGIN:VEVENT
DTSTART;TZID=America/Chicago:20231209T160000
DTEND;TZID=America/Chicago:20231209T173000
DTSTAMP:20260425T072050
CREATED:20230512T155329Z
LAST-MODIFIED:20231209T145550Z
UID:38909-1702137600-1702143000@www.vocalessence.org
SUMMARY:Concert: Welcome Christmas 2023\, Dec 9
DESCRIPTION:
URL:https://www.vocalessence.org/event/concert-welcome-christmas-2023-dec-9/
LOCATION:Northrop\, University of Minnesota\, 84 Church St SE\, Minneapolis\, MN\, 55455\, United States
CATEGORIES:Concerts,Ticketed Event
ATTACH;FMTTYPE=image/jpeg:https://www.vocalessence.org/wp-content/uploads/2023/05/Welcome-Christmas-Featured-1200x630-1.jpg
END:VEVENT
BEGIN:VEVENT
DTSTART;TZID=America/Chicago:20231210T160000
DTEND;TZID=America/Chicago:20231210T173000
DTSTAMP:20260425T072050
CREATED:20230512T155258Z
LAST-MODIFIED:20231209T145630Z
UID:38911-1702224000-1702229400@www.vocalessence.org
SUMMARY:Concert: Welcome Christmas 2023\, Dec 10
DESCRIPTION:
URL:https://www.vocalessence.org/event/concert-welcome-christmas-2023-dec-10/
LOCATION:Northrop\, University of Minnesota\, 84 Church St SE\, Minneapolis\, MN\, 55455\, United States
CATEGORIES:Concerts,Ticketed Event
ATTACH;FMTTYPE=image/jpeg:https://www.vocalessence.org/wp-content/uploads/2023/05/Welcome-Christmas-Featured-1200x630-1.jpg
END:VEVENT
BEGIN:VEVENT
DTSTART;TZID=America/Chicago:20231215T193000
DTEND;TZID=America/Chicago:20231215T213000
DTSTAMP:20260425T072050
CREATED:20230512T155155Z
LAST-MODIFIED:20231215T160627Z
UID:38913-1702668600-1702675800@www.vocalessence.org
SUMMARY:Concert: Bach's Christmas Oratorio 2023\, Dec 15
DESCRIPTION:
URL:https://www.vocalessence.org/event/concert-bachs-christmas-oratorio-2023-dec-15/
LOCATION:St. Paul’s United Church of Christ\, 900 Summit Avenue\, Saint Paul\, MN\, 55105\, United States
CATEGORIES:Concerts,Ticketed Event
ATTACH;FMTTYPE=image/jpeg:https://www.vocalessence.org/wp-content/uploads/2023/05/Bachs-Christmas-Oratorio-Featured-1200x630-1.jpg
END:VEVENT
BEGIN:VEVENT
DTSTART;TZID=America/Chicago:20231216T160000
DTEND;TZID=America/Chicago:20231216T180000
DTSTAMP:20260425T072050
CREATED:20230512T155126Z
LAST-MODIFIED:20231215T160715Z
UID:38916-1702742400-1702749600@www.vocalessence.org
SUMMARY:Concert: Bach's Christmas Oratorio 2023\, Dec 16
DESCRIPTION:
URL:https://www.vocalessence.org/event/concert-bachs-christmas-oratorio-2023-dec-16/
LOCATION:Westwood Lutheran Church\, 9001 Cedar Lake Rd\, St. Louis Park\, MN\, 55426\, United States
CATEGORIES:Concerts,Ticketed Event
END:VEVENT
END:VCALENDAR