BEGIN:VCALENDAR
VERSION:2.0
PRODID:-//VocalEssence - ECPv6.15.15//NONSGML v1.0//EN
CALSCALE:GREGORIAN
METHOD:PUBLISH
X-ORIGINAL-URL:https://www.vocalessence.org
X-WR-CALDESC:Events for VocalEssence
REFRESH-INTERVAL;VALUE=DURATION:PT1H
X-Robots-Tag:noindex
X-PUBLISHED-TTL:PT1H
BEGIN:VTIMEZONE
TZID:America/Chicago
BEGIN:DAYLIGHT
TZOFFSETFROM:-0600
TZOFFSETTO:-0500
TZNAME:CDT
DTSTART:20230312T080000
END:DAYLIGHT
BEGIN:STANDARD
TZOFFSETFROM:-0500
TZOFFSETTO:-0600
TZNAME:CST
DTSTART:20231105T070000
END:STANDARD
BEGIN:DAYLIGHT
TZOFFSETFROM:-0600
TZOFFSETTO:-0500
TZNAME:CDT
DTSTART:20240310T080000
END:DAYLIGHT
BEGIN:STANDARD
TZOFFSETFROM:-0500
TZOFFSETTO:-0600
TZNAME:CST
DTSTART:20241103T070000
END:STANDARD
BEGIN:DAYLIGHT
TZOFFSETFROM:-0600
TZOFFSETTO:-0500
TZNAME:CDT
DTSTART:20250309T080000
END:DAYLIGHT
BEGIN:STANDARD
TZOFFSETFROM:-0500
TZOFFSETTO:-0600
TZNAME:CST
DTSTART:20251102T070000
END:STANDARD
BEGIN:DAYLIGHT
TZOFFSETFROM:-0600
TZOFFSETTO:-0500
TZNAME:CDT
DTSTART:20260308T080000
END:DAYLIGHT
BEGIN:STANDARD
TZOFFSETFROM:-0500
TZOFFSETTO:-0600
TZNAME:CST
DTSTART:20261101T070000
END:STANDARD
END:VTIMEZONE
BEGIN:VEVENT
DTSTART;TZID=America/Chicago:20240624T100000
DTEND;TZID=America/Chicago:20250524T170000
DTSTAMP:20260424T105338
CREATED:20240621T031729Z
LAST-MODIFIED:20240708T175830Z
UID:41350-1719223200-1748106000@www.vocalessence.org
SUMMARY:VocalEssence 2024-2025 Season
DESCRIPTION:
URL:https://www.vocalessence.org/event/buy-tickets-vocalessence-2024-2025-season/
CATEGORIES:Concerts,Ticketed Event
ATTACH;FMTTYPE=image/jpeg:https://www.vocalessence.org/wp-content/uploads/2024/06/2024-25-Season-Image-1200x630-1.jpg
END:VEVENT
BEGIN:VEVENT
DTSTART;TZID=America/Chicago:20241207T160000
DTEND;TZID=America/Chicago:20241207T173000
DTSTAMP:20260424T105338
CREATED:20240620T192423Z
LAST-MODIFIED:20250918T170220Z
UID:41383-1733587200-1733592600@www.vocalessence.org
SUMMARY:Concert: Welcome Christmas 2024\, Dec 7
DESCRIPTION:
URL:https://www.vocalessence.org/event/concert-welcome-christmas-2024-dec-7/
LOCATION:Northrop\, University of Minnesota\, 84 Church St SE\, Minneapolis\, MN\, 55455\, United States
CATEGORIES:Concerts,Ticketed Event
ATTACH;FMTTYPE=image/jpeg:https://www.vocalessence.org/wp-content/uploads/2024/06/Welcome-Christmas-Featured-1200x630-1.jpg
END:VEVENT
BEGIN:VEVENT
DTSTART;TZID=America/Chicago:20241208T160000
DTEND;TZID=America/Chicago:20241208T173000
DTSTAMP:20260424T105338
CREATED:20240620T192634Z
LAST-MODIFIED:20241207T025300Z
UID:41386-1733673600-1733679000@www.vocalessence.org
SUMMARY:Concert: Welcome Christmas 2024\, Dec 8
DESCRIPTION:
URL:https://www.vocalessence.org/event/concert-welcome-christmas-2024-dec-8/
LOCATION:Northrop\, University of Minnesota\, 84 Church St SE\, Minneapolis\, MN\, 55455\, United States
CATEGORIES:Concerts,Ticketed Event
ATTACH;FMTTYPE=image/jpeg:https://www.vocalessence.org/wp-content/uploads/2024/06/Welcome-Christmas-Featured-1200x630-1.jpg
END:VEVENT
BEGIN:VEVENT
DTSTART;TZID=America/Chicago:20241213T193000
DTEND;TZID=America/Chicago:20241213T213000
DTSTAMP:20260424T105338
CREATED:20240620T202706Z
LAST-MODIFIED:20241213T183513Z
UID:41391-1734118200-1734125400@www.vocalessence.org
SUMMARY:Concert: Bach's Christmas Oratorio 2024\, Dec 13
DESCRIPTION:
URL:https://www.vocalessence.org/event/concert-bachs-christmas-oratorio-2024-dec-13/
LOCATION:St. Paul’s United Church of Christ\, 900 Summit Avenue\, Saint Paul\, MN\, 55105\, United States
CATEGORIES:Concerts,Ticketed Event
ATTACH;FMTTYPE=image/jpeg:https://www.vocalessence.org/wp-content/uploads/2023/05/Bachs-Christmas-Oratorio-Featured-1200x630-1.jpg
END:VEVENT
BEGIN:VEVENT
DTSTART;TZID=America/Chicago:20241214T160000
DTEND;TZID=America/Chicago:20241214T180000
DTSTAMP:20260424T105338
CREATED:20240620T203007Z
LAST-MODIFIED:20241213T183356Z
UID:41394-1734192000-1734199200@www.vocalessence.org
SUMMARY:Concert: Bach's Christmas Oratorio 2024\, Dec 14
DESCRIPTION:
URL:https://www.vocalessence.org/event/concert-bachs-christmas-oratorio-2024-dec-14/
LOCATION:Westwood Lutheran Church\, 9001 Cedar Lake Rd\, St. Louis Park\, MN\, 55426\, United States
CATEGORIES:Concerts,Ticketed Event
ATTACH;FMTTYPE=image/jpeg:https://www.vocalessence.org/wp-content/uploads/2023/05/Bachs-Christmas-Oratorio-Featured-1200x630-1.jpg
END:VEVENT
END:VCALENDAR