BEGIN:VCALENDAR
VERSION:2.0
PRODID:-//VocalEssence - ECPv6.15.15//NONSGML v1.0//EN
CALSCALE:GREGORIAN
METHOD:PUBLISH
X-WR-CALNAME:VocalEssence
X-ORIGINAL-URL:https://www.vocalessence.org
X-WR-CALDESC:Events for VocalEssence
REFRESH-INTERVAL;VALUE=DURATION:PT1H
X-Robots-Tag:noindex
X-PUBLISHED-TTL:PT1H
BEGIN:VTIMEZONE
TZID:America/Chicago
BEGIN:DAYLIGHT
TZOFFSETFROM:-0600
TZOFFSETTO:-0500
TZNAME:CDT
DTSTART:20230312T080000
END:DAYLIGHT
BEGIN:STANDARD
TZOFFSETFROM:-0500
TZOFFSETTO:-0600
TZNAME:CST
DTSTART:20231105T070000
END:STANDARD
BEGIN:DAYLIGHT
TZOFFSETFROM:-0600
TZOFFSETTO:-0500
TZNAME:CDT
DTSTART:20240310T080000
END:DAYLIGHT
BEGIN:STANDARD
TZOFFSETFROM:-0500
TZOFFSETTO:-0600
TZNAME:CST
DTSTART:20241103T070000
END:STANDARD
BEGIN:DAYLIGHT
TZOFFSETFROM:-0600
TZOFFSETTO:-0500
TZNAME:CDT
DTSTART:20250309T080000
END:DAYLIGHT
BEGIN:STANDARD
TZOFFSETFROM:-0500
TZOFFSETTO:-0600
TZNAME:CST
DTSTART:20251102T070000
END:STANDARD
BEGIN:DAYLIGHT
TZOFFSETFROM:-0600
TZOFFSETTO:-0500
TZNAME:CDT
DTSTART:20260308T080000
END:DAYLIGHT
BEGIN:STANDARD
TZOFFSETFROM:-0500
TZOFFSETTO:-0600
TZNAME:CST
DTSTART:20261101T070000
END:STANDARD
END:VTIMEZONE
BEGIN:VEVENT
DTSTART;TZID=America/Chicago:20240624T100000
DTEND;TZID=America/Chicago:20250524T170000
DTSTAMP:20260424T040144
CREATED:20240621T031729Z
LAST-MODIFIED:20240708T175830Z
UID:41350-1719223200-1748106000@www.vocalessence.org
SUMMARY:VocalEssence 2024-2025 Season
DESCRIPTION:
URL:https://www.vocalessence.org/event/buy-tickets-vocalessence-2024-2025-season/
CATEGORIES:Concerts,Ticketed Event
ATTACH;FMTTYPE=image/jpeg:https://www.vocalessence.org/wp-content/uploads/2024/06/2024-25-Season-Image-1200x630-1.jpg
END:VEVENT
BEGIN:VEVENT
DTSTART;TZID=America/Chicago:20250404T193000
DTEND;TZID=America/Chicago:20250404T213000
DTSTAMP:20260424T040144
CREATED:20240621T060758Z
LAST-MODIFIED:20250403T171749Z
UID:41487-1743795000-1743802200@www.vocalessence.org
SUMMARY:Concert: Voices for a Cathedral
DESCRIPTION:
URL:https://www.vocalessence.org/event/concert-voices-for-a-cathedral/
LOCATION:Cathedral of Saint Paul\, 239 Selby Avenue\, Saint Paul\, MN\, 55102\, United States
CATEGORIES:Concerts
ATTACH;FMTTYPE=image/jpeg:https://www.vocalessence.org/wp-content/uploads/2024/06/Voices-for-a-Cathedral-Featured-1200x630-1.jpg
END:VEVENT
BEGIN:VEVENT
DTSTART;TZID=America/Chicago:20250406T160000
DTEND;TZID=America/Chicago:20250406T180000
DTSTAMP:20260424T040144
CREATED:20240620T205621Z
LAST-MODIFIED:20250818T182517Z
UID:41412-1743955200-1743962400@www.vocalessence.org
SUMMARY:Concert: Sacred Voices
DESCRIPTION:
URL:https://www.vocalessence.org/event/concert-sacred-voices/
LOCATION:Ordway Concert Hall\, 345 Washington Street\, Saint Paul\, MN\, 55102\, United States
CATEGORIES:Concerts,Ticketed Event
ATTACH;FMTTYPE=image/jpeg:https://www.vocalessence.org/wp-content/uploads/2024/06/Sacred-Voices-Featured-1200x630-1.jpg
END:VEVENT
END:VCALENDAR