BEGIN:VCALENDAR
VERSION:2.0
PRODID:-//VocalEssence - ECPv6.15.15//NONSGML v1.0//EN
CALSCALE:GREGORIAN
METHOD:PUBLISH
X-WR-CALNAME:VocalEssence
X-ORIGINAL-URL:https://www.vocalessence.org
X-WR-CALDESC:Events for VocalEssence
REFRESH-INTERVAL;VALUE=DURATION:PT1H
X-Robots-Tag:noindex
X-PUBLISHED-TTL:PT1H
BEGIN:VTIMEZONE
TZID:America/Chicago
BEGIN:DAYLIGHT
TZOFFSETFROM:-0600
TZOFFSETTO:-0500
TZNAME:CDT
DTSTART:20230312T080000
END:DAYLIGHT
BEGIN:STANDARD
TZOFFSETFROM:-0500
TZOFFSETTO:-0600
TZNAME:CST
DTSTART:20231105T070000
END:STANDARD
BEGIN:DAYLIGHT
TZOFFSETFROM:-0600
TZOFFSETTO:-0500
TZNAME:CDT
DTSTART:20240310T080000
END:DAYLIGHT
BEGIN:STANDARD
TZOFFSETFROM:-0500
TZOFFSETTO:-0600
TZNAME:CST
DTSTART:20241103T070000
END:STANDARD
BEGIN:DAYLIGHT
TZOFFSETFROM:-0600
TZOFFSETTO:-0500
TZNAME:CDT
DTSTART:20250309T080000
END:DAYLIGHT
BEGIN:STANDARD
TZOFFSETFROM:-0500
TZOFFSETTO:-0600
TZNAME:CST
DTSTART:20251102T070000
END:STANDARD
END:VTIMEZONE
BEGIN:VEVENT
DTSTART;TZID=America/Chicago:20240206T200000
DTEND;TZID=America/Chicago:20240206T204000
DTSTAMP:20260424T053440
CREATED:20240202T193132Z
LAST-MODIFIED:20240202T193735Z
UID:40329-1707249600-1707252000@www.vocalessence.org
SUMMARY:Open Rehearsal: VocalEssence Chorus Midwest ACDA Preview Performance
DESCRIPTION:
URL:https://www.vocalessence.org/event/open-rehearsal-vocalessence-chorus-midwest-acda-preview-performance/
LOCATION:Central High School Auditorium\, 275 Lexington Ave N\, Saint Paul\, MN\, 55104\, United States
CATEGORIES:Dress Rehearsal
ATTACH;FMTTYPE=image/jpeg:https://www.vocalessence.org/wp-content/uploads/2024/02/VocalEssence-Chorus-23-24-1200x630-photo-credit-Bruce-Silcox.jpg
END:VEVENT
END:VCALENDAR