BEGIN:VCALENDAR
VERSION:2.0
PRODID:-//VocalEssence - ECPv6.15.15//NONSGML v1.0//EN
CALSCALE:GREGORIAN
METHOD:PUBLISH
X-WR-CALNAME:VocalEssence
X-ORIGINAL-URL:https://www.vocalessence.org
X-WR-CALDESC:Events for VocalEssence
REFRESH-INTERVAL;VALUE=DURATION:PT1H
X-Robots-Tag:noindex
X-PUBLISHED-TTL:PT1H
BEGIN:VTIMEZONE
TZID:America/New_York
BEGIN:DAYLIGHT
TZOFFSETFROM:-0500
TZOFFSETTO:-0400
TZNAME:EDT
DTSTART:20140309T070000
END:DAYLIGHT
BEGIN:STANDARD
TZOFFSETFROM:-0400
TZOFFSETTO:-0500
TZNAME:EST
DTSTART:20141102T060000
END:STANDARD
BEGIN:DAYLIGHT
TZOFFSETFROM:-0500
TZOFFSETTO:-0400
TZNAME:EDT
DTSTART:20150308T070000
END:DAYLIGHT
BEGIN:STANDARD
TZOFFSETFROM:-0400
TZOFFSETTO:-0500
TZNAME:EST
DTSTART:20151101T060000
END:STANDARD
BEGIN:DAYLIGHT
TZOFFSETFROM:-0500
TZOFFSETTO:-0400
TZNAME:EDT
DTSTART:20160313T070000
END:DAYLIGHT
BEGIN:STANDARD
TZOFFSETFROM:-0400
TZOFFSETTO:-0500
TZNAME:EST
DTSTART:20161106T060000
END:STANDARD
END:VTIMEZONE
BEGIN:VEVENT
DTSTART;TZID=America/New_York:20151011T183000
DTEND;TZID=America/New_York:20151011T210000
DTSTAMP:20260421T141149
CREATED:20151001T205637Z
LAST-MODIFIED:20151002T015243Z
UID:13340-1444588200-1444597200@www.vocalessence.org
SUMMARY:POST-CONCERT HAPPY HOUR: VocalEssence Resonate with Jake Runestad\, Brian Turner and Jeffrey Biegel
DESCRIPTION:Join VocalEssence Resonate\, our young professionals group\, for a happy hour with Dreams of the Fallen composer Jake Runestad\, poet Brian Turner and pianist Jeffrey Biegel after the Dreams of the Fallen concert on Sunday\, October 11\, 2015. Enjoy the company of other choral music lovers—and free appetizers while they last—at Green Mill just a few minutes from the O’Shaughnessy in St. Paul.
URL:https://www.vocalessence.org/event/post-concert-happy-hour-resonate-with-jake-runestad-brian-turner-and-jeffrey-biegel/
LOCATION:Green Mill\, St. Paul\, 57 South Hamline Avenue\, St. Paul\, MN\, 55105\, United States
CATEGORIES:Events,Post-Concert Happy Hour,Resonate,Ticketed Event
ATTACH;FMTTYPE=image/png:https://www.vocalessence.org/wp-content/uploads/2014/08/Resonate.png
END:VEVENT
END:VCALENDAR