BEGIN:VCALENDAR
VERSION:2.0
PRODID:-//VocalEssence - ECPv6.15.15//NONSGML v1.0//EN
CALSCALE:GREGORIAN
METHOD:PUBLISH
X-WR-CALNAME:VocalEssence
X-ORIGINAL-URL:https://www.vocalessence.org
X-WR-CALDESC:Events for VocalEssence
REFRESH-INTERVAL;VALUE=DURATION:PT1H
X-Robots-Tag:noindex
X-PUBLISHED-TTL:PT1H
BEGIN:VTIMEZONE
TZID:America/New_York
BEGIN:DAYLIGHT
TZOFFSETFROM:-0500
TZOFFSETTO:-0400
TZNAME:EDT
DTSTART:20140309T070000
END:DAYLIGHT
BEGIN:STANDARD
TZOFFSETFROM:-0400
TZOFFSETTO:-0500
TZNAME:EST
DTSTART:20141102T060000
END:STANDARD
BEGIN:DAYLIGHT
TZOFFSETFROM:-0500
TZOFFSETTO:-0400
TZNAME:EDT
DTSTART:20150308T070000
END:DAYLIGHT
BEGIN:STANDARD
TZOFFSETFROM:-0400
TZOFFSETTO:-0500
TZNAME:EST
DTSTART:20151101T060000
END:STANDARD
BEGIN:DAYLIGHT
TZOFFSETFROM:-0500
TZOFFSETTO:-0400
TZNAME:EDT
DTSTART:20160313T070000
END:DAYLIGHT
BEGIN:STANDARD
TZOFFSETFROM:-0400
TZOFFSETTO:-0500
TZNAME:EST
DTSTART:20161106T060000
END:STANDARD
END:VTIMEZONE
BEGIN:VEVENT
DTSTART;TZID=America/New_York:20151115T180000
DTEND;TZID=America/New_York:20151115T200000
DTSTAMP:20260421T094029
CREATED:20150313T173250Z
LAST-MODIFIED:20151104T183725Z
UID:10940-1447610400-1447617600@www.vocalessence.org
SUMMARY:FUNDRAISER: Voz en Punto Fiesta
DESCRIPTION:Join us after the Voz en Punto performance on Sunday\, November 15\, 2015 in the Marzitelli Foyer at The Ordway to sample the flavors of Mexico with drinks\, mouth-watering appetizers\, and a sing-along with Voz en Punto to support the VocalEssence ¡Cantaré! education program. You will also have a chance to win top-drawer raffle prizes that include tickets to the sold-out A Prairie Home Companion show featuring the VocalEssence Ensemble Singers\, and dinner for four at Surly Brewer’s Table. $30 of your ticket is a tax-deductible donation. \nFiesta Pass $75 (Concert ticket not included.)\nConcert tickets and Fiesta passes can also be purchased as part of a 2015-2016 Season Subscription. \nAlready have a concert ticket and want to buy a Fiesta Pass? A subscriber add-on or single-ticket purchase is available. \nMedia Sponsor
URL:https://www.vocalessence.org/event/fundraiser-voz-en-punto-fiesta/
LOCATION:Ordway Concert Hall\, 345 Washington Street\, Saint Paul\, MN\, 55102\, United States
CATEGORIES:Events,Fundraisers,Post-Concert Happy Hour,Ticketed Event,¡Cantaré!
ATTACH;FMTTYPE=image/jpeg:https://www.vocalessence.org/wp-content/uploads/2015/03/600x450_VE4.jpg
END:VEVENT
END:VCALENDAR