BEGIN:VCALENDAR
VERSION:2.0
PRODID:-//VocalEssence - ECPv6.15.15//NONSGML v1.0//EN
CALSCALE:GREGORIAN
METHOD:PUBLISH
X-WR-CALNAME:VocalEssence
X-ORIGINAL-URL:https://www.vocalessence.org
X-WR-CALDESC:Events for VocalEssence
REFRESH-INTERVAL;VALUE=DURATION:PT1H
X-Robots-Tag:noindex
X-PUBLISHED-TTL:PT1H
BEGIN:VTIMEZONE
TZID:America/Chicago
BEGIN:DAYLIGHT
TZOFFSETFROM:-0600
TZOFFSETTO:-0500
TZNAME:CDT
DTSTART:20250309T080000
END:DAYLIGHT
BEGIN:STANDARD
TZOFFSETFROM:-0500
TZOFFSETTO:-0600
TZNAME:CST
DTSTART:20251102T070000
END:STANDARD
BEGIN:DAYLIGHT
TZOFFSETFROM:-0600
TZOFFSETTO:-0500
TZNAME:CDT
DTSTART:20260308T080000
END:DAYLIGHT
BEGIN:STANDARD
TZOFFSETFROM:-0500
TZOFFSETTO:-0600
TZNAME:CST
DTSTART:20261101T070000
END:STANDARD
BEGIN:DAYLIGHT
TZOFFSETFROM:-0600
TZOFFSETTO:-0500
TZNAME:CDT
DTSTART:20270314T080000
END:DAYLIGHT
BEGIN:STANDARD
TZOFFSETFROM:-0500
TZOFFSETTO:-0600
TZNAME:CST
DTSTART:20271107T070000
END:STANDARD
END:VTIMEZONE
BEGIN:VEVENT
DTSTART;TZID=America/Chicago:20260123T123000
DTEND;TZID=America/Chicago:20260123T140000
DTSTAMP:20260421T125451
CREATED:20260109T215026Z
LAST-MODIFIED:20260122T180127Z
UID:45171-1769171400-1769176800@www.vocalessence.org
SUMMARY:OLLI Class: Black Brilliance—Session 1: January 23
DESCRIPTION:
URL:https://www.vocalessence.org/event/olli-class-black-brilliance-jan-23/
LOCATION:Plymouth Congregational Church\, 1919 LaSalle Avenue\, Minneapolis\, MN\, 55403\, United States
CATEGORIES:Osher Lifelong Learning,WITNESS
ATTACH;FMTTYPE=image/jpeg:https://www.vocalessence.org/wp-content/uploads/2026/01/B.E.-Boykin-1200x630-1.jpg
END:VEVENT
BEGIN:VEVENT
DTSTART;TZID=America/Chicago:20260130T123000
DTEND;TZID=America/Chicago:20260130T143000
DTSTAMP:20260421T125451
CREATED:20260109T214736Z
LAST-MODIFIED:20260129T210135Z
UID:45176-1769776200-1769783400@www.vocalessence.org
SUMMARY:OLLI Class: Black Brilliance—January 30
DESCRIPTION:
URL:https://www.vocalessence.org/event/olli-class-black-brilliance-session-2-january-30/
LOCATION:Plymouth Congregational Church\, 1919 LaSalle Avenue\, Minneapolis\, MN\, 55403\, United States
CATEGORIES:Osher Lifelong Learning,WITNESS
ATTACH;FMTTYPE=image/jpeg:https://www.vocalessence.org/wp-content/uploads/2026/01/B.E.-Boykin-1200x630-1.jpg
END:VEVENT
END:VCALENDAR